BEGIN:VCALENDAR
VERSION:2.0
PRODID:https://www.kufer.de/kuferweb / DE
METHOD:PUBLISH
CALSCALE:GREGORIAN
X-WR-TIMEZONE:Europe/Berlin
BEGIN:VTIMEZONE
TZID:Europe/Berlin
X-LIC-LOCATION:Europe/Berlin
BEGIN:DAYLIGHT
TZOFFSETFROM:+0100
TZOFFSETTO:+0200
TZNAME:CEST
DTSTART:19700329T020000
RRULE:FREQ=YEARLY;INTERVAL=1;BYDAY=-1SU;BYMONTH=3
END:DAYLIGHT
BEGIN:STANDARD
TZOFFSETFROM:+0200
TZOFFSETTO:+0100
TZNAME:CET
DTSTART:19701025T030000
RRULE:FREQ=YEARLY;INTERVAL=1;BYDAY=-1SU;BYMONTH=10
END:STANDARD
END:VTIMEZONE
BEGIN:VEVENT
DTSTAMP:20260423T104914
DTSTART;TZID=Europe/Berlin:20260223T150000
DTEND;TZID=Europe/Berlin:20260223T160000
UID:261-3277-20260223T150000@FBSKIRCHHEIM UNTER TECK
SUMMARY:QEKK - Spielezeit für Babys Entwicklungsbegleitung mit Raum und Zeit für September - Oktober ´25 Geborene Folgekurs (261-3277) 
LOCATION:FBS, Vogthaus, Raum 25 (2. OG), Widerholtstr.4, Kirchheim unter Teck
END:VEVENT
BEGIN:VEVENT
DTSTAMP:20260423T104914
DTSTART;TZID=Europe/Berlin:20260302T150000
DTEND;TZID=Europe/Berlin:20260302T160000
UID:261-3277-20260302T150000@FBSKIRCHHEIM UNTER TECK
SUMMARY:QEKK - Spielezeit für Babys Entwicklungsbegleitung mit Raum und Zeit für September - Oktober ´25 Geborene Folgekurs (261-3277) 
LOCATION:FBS, Vogthaus, Raum 25 (2. OG), Widerholtstr.4, Kirchheim unter Teck
END:VEVENT
BEGIN:VEVENT
DTSTAMP:20260423T104914
DTSTART;TZID=Europe/Berlin:20260323T150000
DTEND;TZID=Europe/Berlin:20260323T160000
UID:261-3277-20260323T150000@FBSKIRCHHEIM UNTER TECK
SUMMARY:QEKK - Spielezeit für Babys Entwicklungsbegleitung mit Raum und Zeit für September - Oktober ´25 Geborene Folgekurs (261-3277) 
LOCATION:FBS, Vogthaus, Raum 25 (2. OG), Widerholtstr.4, Kirchheim unter Teck
END:VEVENT
BEGIN:VEVENT
DTSTAMP:20260423T104914
DTSTART;TZID=Europe/Berlin:20260330T150000
DTEND;TZID=Europe/Berlin:20260330T160000
UID:261-3277-20260330T150000@FBSKIRCHHEIM UNTER TECK
DESCRIPTION:NH-T. für 09.03.26
SUMMARY:QEKK - Spielezeit für Babys Entwicklungsbegleitung mit Raum und Zeit für September - Oktober ´25 Geborene Folgekurs (261-3277) 
LOCATION:FBS, Vogthaus, Raum 25 (2. OG), Widerholtstr.4, Kirchheim unter Teck
END:VEVENT
BEGIN:VEVENT
DTSTAMP:20260423T104914
DTSTART;TZID=Europe/Berlin:20260413T150000
DTEND;TZID=Europe/Berlin:20260413T160000
UID:261-3277-20260413T150000@FBSKIRCHHEIM UNTER TECK
SUMMARY:QEKK - Spielezeit für Babys Entwicklungsbegleitung mit Raum und Zeit für September - Oktober ´25 Geborene Folgekurs (261-3277) 
LOCATION:FBS, Vogthaus, Raum 25 (2. OG), Widerholtstr.4, Kirchheim unter Teck
END:VEVENT
BEGIN:VEVENT
DTSTAMP:20260423T104914
DTSTART;TZID=Europe/Berlin:20260420T150000
DTEND;TZID=Europe/Berlin:20260420T160000
UID:261-3277-20260420T150000@FBSKIRCHHEIM UNTER TECK
SUMMARY:QEKK - Spielezeit für Babys Entwicklungsbegleitung mit Raum und Zeit für September - Oktober ´25 Geborene Folgekurs (261-3277) 
LOCATION:FBS, Vogthaus, Raum 25 (2. OG), Widerholtstr.4, Kirchheim unter Teck
END:VEVENT
BEGIN:VEVENT
DTSTAMP:20260423T104914
DTSTART;TZID=Europe/Berlin:20260427T150000
DTEND;TZID=Europe/Berlin:20260427T160000
UID:261-3277-20260427T150000@FBSKIRCHHEIM UNTER TECK
SUMMARY:QEKK - Spielezeit für Babys Entwicklungsbegleitung mit Raum und Zeit für September - Oktober ´25 Geborene Folgekurs (261-3277) 
LOCATION:FBS, Vogthaus, Raum 25 (2. OG), Widerholtstr.4, Kirchheim unter Teck
END:VEVENT
BEGIN:VEVENT
DTSTAMP:20260423T104914
DTSTART;TZID=Europe/Berlin:20260504T150000
DTEND;TZID=Europe/Berlin:20260504T160000
UID:261-3277-20260504T150000@FBSKIRCHHEIM UNTER TECK
SUMMARY:QEKK - Spielezeit für Babys Entwicklungsbegleitung mit Raum und Zeit für September - Oktober ´25 Geborene Folgekurs (261-3277) 
LOCATION:FBS, Vogthaus, Raum 25 (2. OG), Widerholtstr.4, Kirchheim unter Teck
END:VEVENT
BEGIN:VEVENT
DTSTAMP:20260423T104914
DTSTART;TZID=Europe/Berlin:20260511T150000
DTEND;TZID=Europe/Berlin:20260511T160000
UID:261-3277-20260511T150000@FBSKIRCHHEIM UNTER TECK
SUMMARY:QEKK - Spielezeit für Babys Entwicklungsbegleitung mit Raum und Zeit für September - Oktober ´25 Geborene Folgekurs (261-3277) 
LOCATION:FBS, Vogthaus, Raum 25 (2. OG), Widerholtstr.4, Kirchheim unter Teck
END:VEVENT
END:VCALENDAR